BEGIN:VCALENDAR
PRODID:-//AT Content Types//AT Event//EN
VERSION:2.0
METHOD:PUBLISH
BEGIN:VEVENT
DTSTAMP:20260421T073013Z
CREATED:20110815T220019Z
UID:ATEvent-a2a3cf9a4220c8b0bac6c4153d773b63
LAST-MODIFIED:20111013T135422Z
SUMMARY:O mercado para o DBA: SalÃ¡rios\, Responsabilidades e Oportunidades.
DTSTART:20111021T210000Z
DTEND:20111021T221500Z
DESCRIPTION:O objetivo da palestra Ã© mostrar as responsabilidades e a
 s atividades de um DBA\, o cenÃ¡rio para o mercado atual e para os prÃ
 ³ximos anos e como DBAs de diferentes SGBDs sÃ£o remunerados no mercad
 o.
LOCATION:IFSP - Campus SÃ£o Carlos: IV Semana Nacional de CiÃªncia e Tecnologia
CONTACT:VinÃ­cius Rodrigues da Cunha Perallis\, vinicius@perallis.com
URL:http://www.ifspsaocarlos.edu.br/snct2011/
CLASS:PUBLIC
END:VEVENT
END:VCALENDAR
