BEGIN:VCALENDAR
PRODID:-//AT Content Types//AT Event//EN
VERSION:2.0
METHOD:PUBLISH
BEGIN:VEVENT
DTSTAMP:20260421T071203Z
CREATED:20120618T131904Z
UID:ATEvent-99024b12ea204f59c43d3ec948b4d45d
LAST-MODIFIED:20120618T133729Z
SUMMARY:DB2 users Group Brazil - Gestão de TI otimizada com IBM DB2 e PureSystems
DTSTART:20120619T113000Z
DTEND:20120619T200000Z
DESCRIPTION:A cada nova versão\, o DB2 caminha na direção da econom
 ia\, produtividade e confiabilidade. O evento mostrará as novidades d
 esse lançamento! \n\nA Perallis estará presente!
LOCATION:Matsubara Hotel
CLASS:PUBLIC
END:VEVENT
END:VCALENDAR
