BEGIN:VCALENDAR
PRODID:-//AT Content Types//AT Event//EN
VERSION:2.0
METHOD:PUBLISH
BEGIN:VEVENT
DTSTAMP:20260421T071844Z
CREATED:20110817T173911Z
UID:ATEvent-569f0a42aaada32bd4d91dc598b2f25f
LAST-MODIFIED:20110817T173915Z
SUMMARY:Certificações IBM por US$30 na UCB em Brasília\, inscrições até 01/09/11
DTSTART:20110913T120000Z
DTEND:20110915T200000Z
DESCRIPTION:A UCB \, através do programa IBM Smart Professsional\, of
 erece certificações IBM pelo valor promocional de US$30. Não perca 
 esta oportunidade de se certificar e torne-se um profissional “IBM C
 ertified”!
LOCATION:Universidade Católica de Brasilia
URL:http://bit.ly/CertificacoesIBM_US30_Brasilia
CLASS:PUBLIC
END:VEVENT
END:VCALENDAR
